BEGIN:VCALENDAR
PRODID:-//kirchenweb.ch gmbh//veranstaltungsausgabe v2.0//DE
VERSION:2.0
METHOD:PUBLISH
BEGIN:VEVENT
DTSTART:20260604T093000Z
DTEND:20260604T103000Z
LOCATION:Restaurant Traube\, Mühleberg\, \,
TRANSP:OPAQUE
SEQUENCE:0
UID:56552-veranstaltung@kirchenregion-laupen.ch
DTSTAMP:20251110T135534Z
DESCRIPTION:Alle Seniorinnen und Senioren ab 65 sind eingeladen\, sich
  jeweils um 11.30 Uhr im Landgasthof Biberenbad zu treffen. Wer nach dem
  gemeinsamen Mittagessen mag\, bleibt noch für einen geselligen Schwatz\,
  zu einem Jass oder anderen Spielen.\nKosten fürs Menü ca. CHF 17.00\n\n
 \nKontakt: Franziska Herren\, 078 730 58 44\n\nWeitere Infos:
  https://www.kirchenregion-laupen.ch/veranstaltung/56552
SUMMARY:Mittagstisch Frauenverein Ferenbalm und Umgebung
PRIORITY:5
X-MICROSOFT-CDO-IMPORTANCE:1
CLASS:PUBLIC
END:VEVENT
END:VCALENDAR
