BEGIN:VCALENDAR
PRODID:-//kirchenweb.ch gmbh//veranstaltungsausgabe v2.0//DE
VERSION:2.0
METHOD:PUBLISH
BEGIN:VEVENT
DTSTART:20260510T123000Z
DTEND:20260510T143000Z
LOCATION:Café Bijou (Stiftung ssb)\, Spitalstrasse 7\, 1712 Tafers
TRANSP:OPAQUE
SEQUENCE:0
UID:56667-veranstaltung@kirchenregion-laupen.ch
DTSTAMP:20251118T133255Z
DESCRIPTION:Ein Angebot der http://www.kilchhoeri.ch/wabe-deutschfreiburg
 \n\nDas https://www.kilchhoeri.ch/wabe-trauercafe ist ein Ort der
  Begegnung für Menschen in Trauer. Der geschützte Rahmen bietet die
  Möglichkeit\, sich mit Menschen zu treffen\, die in derselben oder einer
  ähnlichen Situation sind. Der Fokus liegt auf gegenseitiger
  Unterstützung im Austausch. Das Trauercafé findet jeden zweiten Sonntag
  im Monat statt.\n\nKontakt: WABE Seeebezirk und Region Laupen\n031 505 20
  00\nWABE Sensebezirk und deutschsprachiger Saanebezirk\n026 494 01 40\n
 \nWeitere Infos: https://www.kirchenregion-laupen.ch/veranstaltung/56667
SUMMARY:WABE Trauercafé
PRIORITY:5
X-MICROSOFT-CDO-IMPORTANCE:1
CLASS:PUBLIC
END:VEVENT
END:VCALENDAR
