BEGIN:VCALENDAR
PRODID:-//kirchenweb.ch gmbh//veranstaltungsausgabe v2.0//DE
VERSION:2.0
METHOD:PUBLISH
BEGIN:VEVENT
DTSTART:20260419T090000Z
DTEND:20260419T100000Z
LOCATION:altes Schulhaus Ferenbalm\, Kirchgasse 6\, 3206 Ferenbalm
TRANSP:OPAQUE
SEQUENCE:0
UID:57046-veranstaltung@kirchenregion-laupen.ch
DTSTAMP:20251208T134300Z
DESCRIPTION:Zwischen 11.00 und 12.00 Uhr ist im Alten Schulhaus Ferenbalm
  für Jung und Alt das monatliche Sonntagkaffee offen.\nAlle sind herzlich
  willkommen.\n\nhttp://www.kilchhoeri.ch/sonntagskaffee\n\nKontakt:
  ursula.kuendig@kirchenregion-laupen.ch\n\nWeitere Infos:
  https://www.kirchenregion-laupen.ch/veranstaltung/57046
SUMMARY:Sonntagskaffee
PRIORITY:5
X-MICROSOFT-CDO-IMPORTANCE:1
CLASS:PUBLIC
END:VEVENT
END:VCALENDAR
