BEGIN:VCALENDAR
PRODID:-//kirchenweb.ch gmbh//veranstaltungsausgabe v2.0//DE
VERSION:2.0
METHOD:PUBLISH
BEGIN:VEVENT
DTSTART:20260520T120000Z
DTEND:20260520T140000Z
LOCATION:Mongolische Jurte\, \,
TRANSP:OPAQUE
SEQUENCE:0
UID:57200-veranstaltung@kirchenregion-laupen.ch
DTSTAMP:20251210T183812Z
DESCRIPTION:Von 14 - 15 Uhr und \nvon 15 - 16 Uhr\n\nKontakt:
  ursula.kuendig@kirchenregion-laupen.ch\n\nWeitere Infos:
  https://www.kirchenregion-laupen.ch/veranstaltung/57200
SUMMARY:Dorfverein Ulmiz: Vorlesetag für Kinder ab 7 Jahren
PRIORITY:5
X-MICROSOFT-CDO-IMPORTANCE:1
CLASS:PUBLIC
END:VEVENT
END:VCALENDAR
