BEGIN:VCALENDAR
PRODID:-//kirchenweb.ch gmbh//veranstaltungsausgabe v2.0//DE
VERSION:2.0
METHOD:PUBLISH
BEGIN:VEVENT
DTSTART:20260626T160000Z
DTEND:20260626T190000Z
LOCATION:Dorfplatz Ulmiz\, \,
TRANSP:OPAQUE
SEQUENCE:0
UID:57201-veranstaltung@kirchenregion-laupen.ch
DTSTAMP:20251210T184305Z
DESCRIPTION:Kontakt: ursula.kuendig@kirchenregion-laupen.ch\n\nWeitere
  Infos: https://www.kirchenregion-laupen.ch/veranstaltung/57201
SUMMARY:Dorfverein Ulmiz: Pizzaplausch
PRIORITY:5
X-MICROSOFT-CDO-IMPORTANCE:1
CLASS:PUBLIC
END:VEVENT
END:VCALENDAR
