BEGIN:VCALENDAR
PRODID:-//kirchenweb.ch gmbh//veranstaltungsausgabe v2.0//DE
VERSION:2.0
METHOD:PUBLISH
BEGIN:VEVENT
DTSTART:20260822T073000Z
DTEND:20260822T083000Z
LOCATION:Treffpunkt: Dorfplatz anschliessend grillen in der Waldhütte\,
  Ulmiz\, \,
TRANSP:OPAQUE
SEQUENCE:0
UID:57202-veranstaltung@kirchenregion-laupen.ch
DTSTAMP:20251210T184505Z
DESCRIPTION:Kontakt: ursula.kuendig@kirchenregion-laupen.ch\n\nWeitere
  Infos: https://www.kirchenregion-laupen.ch/veranstaltung/57202
SUMMARY:Dorfverein Ulmiz: Clean-up day
PRIORITY:5
X-MICROSOFT-CDO-IMPORTANCE:1
CLASS:PUBLIC
END:VEVENT
END:VCALENDAR
