BEGIN:VCALENDAR
PRODID:-//kirchenweb.ch gmbh//veranstaltungsausgabe v2.0//DE
VERSION:2.0
METHOD:PUBLISH
BEGIN:VEVENT
DTSTART:20260924T173000Z
DTEND:20260924T183000Z
LOCATION:Ulmiz\, \,
TRANSP:OPAQUE
SEQUENCE:0
UID:57203-veranstaltung@kirchenregion-laupen.ch
DTSTAMP:20251210T184626Z
DESCRIPTION:Kontakt: ursula.kuendig@kirchenregion-laupen.ch\n\nWeitere
  Infos: https://www.kirchenregion-laupen.ch/veranstaltung/57203
SUMMARY:Dorfverein Ulmiz: Generalversammlung
PRIORITY:5
X-MICROSOFT-CDO-IMPORTANCE:1
CLASS:PUBLIC
END:VEVENT
END:VCALENDAR
