BEGIN:VCALENDAR
PRODID:-//kirchenweb.ch gmbh//veranstaltungsausgabe v2.0//DE
VERSION:2.0
METHOD:PUBLISH
BEGIN:VEVENT
DTSTART:20260924T170000Z
DTEND:20260924T200000Z
LOCATION:Riederhalle\, Ried b. Kerzers\, \,
TRANSP:OPAQUE
SEQUENCE:0
UID:58384-veranstaltung@kirchenregion-laupen.ch
DTSTAMP:20260323T142012Z
DESCRIPTION:Kontakt: ursula.kuendig@kirchenregion-laupen.ch\n\nWeitere
  Infos: https://www.kirchenregion-laupen.ch/veranstaltung/58384
SUMMARY:Frauenverein Ried: Buchvortrag von Irene Graf
PRIORITY:5
X-MICROSOFT-CDO-IMPORTANCE:1
CLASS:PUBLIC
END:VEVENT
END:VCALENDAR
