BEGIN:VCALENDAR
PRODID:-//kirchenweb.ch gmbh//veranstaltungsausgabe v2.0//DE
VERSION:2.0
METHOD:PUBLISH
BEGIN:VEVENT
DTSTART:20261107T130000Z
DTEND:20261107T224500Z
LOCATION:Riederhalle\, Ried b. Kerzers\, \,
TRANSP:OPAQUE
SEQUENCE:0
UID:58385-veranstaltung@kirchenregion-laupen.ch
DTSTAMP:20260323T142008Z
DESCRIPTION:Kontakt: ursula.kuendig@kirchenregion-laupen.ch\n\nWeitere
  Infos: https://www.kirchenregion-laupen.ch/veranstaltung/58385
SUMMARY:Frauenverein Ried: Herbstanlass mit Raclette
PRIORITY:5
X-MICROSOFT-CDO-IMPORTANCE:1
CLASS:PUBLIC
END:VEVENT
END:VCALENDAR
