BEGIN:VCALENDAR
PRODID:-//kirchenweb.ch gmbh//veranstaltungsausgabe v2.0//DE
VERSION:2.0
METHOD:PUBLISH
BEGIN:VEVENT
DTSTART:20270126T130000Z
DTEND:20270126T160000Z
LOCATION:Riederhalle\, Ried b. Kerzers\, \,
TRANSP:OPAQUE
SEQUENCE:0
UID:58386-veranstaltung@kirchenregion-laupen.ch
DTSTAMP:20260323T142059Z
DESCRIPTION:Kontakt: ursula.kuendig@kirchenregion-laupen.ch\n\nWeitere
  Infos: https://www.kirchenregion-laupen.ch/veranstaltung/58386
SUMMARY:Frauenverein Ried: Spielnachmittag mit Lotto
PRIORITY:5
X-MICROSOFT-CDO-IMPORTANCE:1
CLASS:PUBLIC
END:VEVENT
END:VCALENDAR
