BEGIN:VCALENDAR
PRODID:-//kirchenweb.ch gmbh//veranstaltungsausgabe v2.0//DE
VERSION:2.0
METHOD:PUBLISH
BEGIN:VEVENT
DTSTART:20260521T163000Z
DTEND:20260521T173000Z
LOCATION:Parkplatz Schulhaus Allenlüften\, \,
TRANSP:OPAQUE
SEQUENCE:0
UID:58782-veranstaltung@kirchenregion-laupen.ch
DTSTAMP:20260417T142615Z
DESCRIPTION:Im Haushalt kann so einiges anfangen zu brennen. Da ist es
  wichtig zu wissen wie gelöscht werden muss. In einem kurzen Theorieteil
  wird uns Harry Sumi von Chubb Sicli die wichtigsten Eckpunkte erläutern.
  Im Anschluss werden wir unser Wissen in praktischen Übungen ausprobieren
  können. Diese Brandschutzschulung wird von der GVB empfohlen und
  unterstützt. Der Samariterverein Mühleberg wird ebenfalls vor Ort sein
  und uns hilfreiche Tipps zur Behandlung und Erstversorgung von
  Brandwunden erläutern. Freuen wir uns auf einen spannenden Abend zu
  einem wichtigen und\ninteressanten Thema.\n\nDauer: ca. 2 Stunden\, je
  nach Ablauf/Teilnehmerzahl\nWo: Auf dem Parkplatz des Schulhauses in
  Allenlüften\nKosten: pro Person Fr. 70.-\nTeilnehmer: bis zu 20 Personen
  (die Anmeldungen werden nach Eingangsdatum berücksichtigt)\nGut zu
  wissen: Im Anschluss gibt es Kaffee und Kuchen\n\nAnmeldungen bis am 11.
  Mai 2026 an:\nVreni Marthaler\, Neuhof 1\, 3205 Gümmenen
 \nhttp://verena.marthaler@gmail.com oder 079 486 04 41\n\nKontakt:
  ursula.kuendig@kirchenregion-laupen.ch\n\nWeitere Infos:
  https://www.kirchenregion-laupen.ch/veranstaltung/58782
SUMMARY:Frauenverein Ferenbalm und Umgebung: Brandschutztraining
PRIORITY:5
X-MICROSOFT-CDO-IMPORTANCE:1
CLASS:PUBLIC
END:VEVENT
END:VCALENDAR
